BEGIN:VCALENDAR
VERSION:2.0
PRODID:-//wp-events-plugin.com//6.4.7.3//EN
TZID:Europe/Berlin
X-WR-TIMEZONE:Europe/Berlin
BEGIN:VEVENT
UID:79@katharinenschule-esslingen.de
DTSTART;TZID=Europe/Berlin;VALUE=DATE:20250522
DTEND;TZID=Europe/Berlin;VALUE=DATE:20250523
DTSTAMP:20250404T111654Z
URL:https://katharinenschule-esslingen.de/events/voelkerballturnier-pliens
 auvorstadt-kl-4-leseklasse/
SUMMARY:Völkerballturnier - Pliensauvorstadt - Kl.4 + Leseklasse
DESCRIPTION:Die Klassenlehrer gehen mit den Klassen zum Turnier.\n\nVölker
 ballturnier der Esslinger Grundschulen
END:VEVENT
BEGIN:VTIMEZONE
TZID:Europe/Berlin
X-LIC-LOCATION:Europe/Berlin
BEGIN:DAYLIGHT
DTSTART:20250330T030000
TZOFFSETFROM:+0100
TZOFFSETTO:+0200
TZNAME:CEST
END:DAYLIGHT
END:VTIMEZONE
END:VCALENDAR