BEGIN:VCALENDAR
VERSION:2.0
PRODID:-//wp-events-plugin.com//6.4.7.3//EN
TZID:Europe/Berlin
X-WR-TIMEZONE:Europe/Berlin
BEGIN:VEVENT
UID:77@katharinenschule-esslingen.de
DTSTART;TZID=Europe/Berlin:20250408T190000
DTEND;TZID=Europe/Berlin:20250408T190000
DTSTAMP:20250404T110811Z
URL:https://katharinenschule-esslingen.de/events/elternbeiratssitzung-2/
SUMMARY:Elternbeiratssitzung
DESCRIPTION:Die Elternbeiratssitzung findet in der kleinen Mensa statt.\nHa
 uptgebäude - Erdgeschoss
LOCATION:Katharinenschule Esslingen\, Katharinenstr. 47\, Esslingen\, 73728
  \, Deutschland
X-APPLE-STRUCTURED-LOCATION;VALUE=URI;X-ADDRESS=Katharinenstr. 47\, Essling
 en\, 73728 \, Deutschland;X-APPLE-RADIUS=100;X-TITLE=Katharinenschule Essl
 ingen:geo:0,0
END:VEVENT
BEGIN:VTIMEZONE
TZID:Europe/Berlin
X-LIC-LOCATION:Europe/Berlin
BEGIN:DAYLIGHT
DTSTART:20250330T030000
TZOFFSETFROM:+0100
TZOFFSETTO:+0200
TZNAME:CEST
END:DAYLIGHT
END:VTIMEZONE
END:VCALENDAR