BEGIN:VCALENDAR
VERSION:2.0
PRODID:-//wp-events-plugin.com//6.4.7.3//EN
TZID:Europe/Berlin
X-WR-TIMEZONE:Europe/Berlin
BEGIN:VEVENT
UID:20@katharinenschule-esslingen.de
DTSTART;TZID=Europe/Berlin;VALUE=DATE:20240418
DTEND;TZID=Europe/Berlin;VALUE=DATE:20240419
DTSTAMP:20240415T101227Z
URL:http://katharinenschule-esslingen.de/events/vera-3-mathematik/
SUMMARY:VERA 3 Mathematik
DESCRIPTION:In den Klassen 3 werden VERA Vergleichsarbeiten geschrieben.\n\
 nThema: Mathematik
END:VEVENT
BEGIN:VTIMEZONE
TZID:Europe/Berlin
X-LIC-LOCATION:Europe/Berlin
BEGIN:DAYLIGHT
DTSTART:20240331T030000
TZOFFSETFROM:+0100
TZOFFSETTO:+0200
TZNAME:CEST
END:DAYLIGHT
END:VTIMEZONE
END:VCALENDAR