BEGIN:VCALENDAR
VERSION:2.0
PRODID:-//wp-events-plugin.com//6.4.7.3//EN
TZID:Europe/Berlin
X-WR-TIMEZONE:Europe/Berlin
BEGIN:VEVENT
UID:1@katharinenschule-esslingen.de
DTSTART;TZID=Europe/Berlin;VALUE=DATE:20240130
DTEND;TZID=Europe/Berlin;VALUE=DATE:20240131
DTSTAMP:20240122T091844Z
URL:http://katharinenschule-esslingen.de/events/theaterstueck-luemmel/
SUMMARY:Theaterstück Lümmel
DESCRIPTION:Das Theaterstück Lümmel wird für unsere ersten Klassen und f
 ür die VKL aufgeführt.
END:VEVENT
BEGIN:VTIMEZONE
TZID:Europe/Berlin
X-LIC-LOCATION:Europe/Berlin
BEGIN:STANDARD
DTSTART:20231029T020000
TZOFFSETFROM:+0200
TZOFFSETTO:+0100
TZNAME:CET
END:STANDARD
END:VTIMEZONE
END:VCALENDAR