BEGIN:VCALENDAR
VERSION:2.0
PRODID:-//wp-events-plugin.com//6.4.7.3//EN
TZID:Europe/Berlin
X-WR-TIMEZONE:Europe/Berlin
BEGIN:VEVENT
UID:4@katharinenschule-esslingen.de
DTSTART;TZID=Europe/Berlin;VALUE=DATE:20240122
DTEND;TZID=Europe/Berlin;VALUE=DATE:20240127
DTSTAMP:20240125T140222Z
URL:http://katharinenschule-esslingen.de/events/schullandheim-4a/
SUMMARY:Schullandheim 4a
DESCRIPTION:Schulbauernhof-Schullandheim Klasse 4a
END:VEVENT
BEGIN:VTIMEZONE
TZID:Europe/Berlin
X-LIC-LOCATION:Europe/Berlin
BEGIN:STANDARD
DTSTART:20231029T020000
TZOFFSETFROM:+0200
TZOFFSETTO:+0100
TZNAME:CET
END:STANDARD
END:VTIMEZONE
END:VCALENDAR