BEGIN:VCALENDAR
VERSION:2.0
PRODID:-//wp-events-plugin.com//6.4.7.3//EN
TZID:Europe/Berlin
X-WR-TIMEZONE:Europe/Berlin
BEGIN:VEVENT
UID:50@katharinenschule-esslingen.de
DTSTART;TZID=Europe/Berlin;VALUE=DATE:20250411
DTEND;TZID=Europe/Berlin;VALUE=DATE:20250427
DTSTAMP:20250224T134602Z
URL:http://katharinenschule-esslingen.de/events/osterferien-12-04-26-04-25
 /
SUMMARY:Osterferien 11.04-26.04.25
DESCRIPTION:
END:VEVENT
BEGIN:VTIMEZONE
TZID:Europe/Berlin
X-LIC-LOCATION:Europe/Berlin
BEGIN:DAYLIGHT
DTSTART:20250330T030000
TZOFFSETFROM:+0100
TZOFFSETTO:+0200
TZNAME:CEST
END:DAYLIGHT
END:VTIMEZONE
END:VCALENDAR