BEGIN:VCALENDAR
VERSION:2.0
PRODID:-//wp-events-plugin.com//6.4.7.3//EN
TZID:Europe/Berlin
X-WR-TIMEZONE:Europe/Berlin
BEGIN:VEVENT
UID:8@katharinenschule-esslingen.de
DTSTART;TZID=Europe/Berlin;VALUE=DATE:20240304
DTEND;TZID=Europe/Berlin;VALUE=DATE:20240311
DTSTAMP:20240218T160626Z
URL:http://katharinenschule-esslingen.de/events/kw-10-ameldung-weiterfuehr
 ende-schulen/
SUMMARY:KW 10 - Ameldung - Weiterführende Schulen
DESCRIPTION:Bitte denken Sie an die Anmeldung an den weiterführenden Schul
 en.
END:VEVENT
BEGIN:VTIMEZONE
TZID:Europe/Berlin
X-LIC-LOCATION:Europe/Berlin
BEGIN:STANDARD
DTSTART:20231029T020000
TZOFFSETFROM:+0200
TZOFFSETTO:+0100
TZNAME:CET
END:STANDARD
END:VTIMEZONE
END:VCALENDAR