BEGIN:VCALENDAR
VERSION:2.0
PRODID:-//wp-events-plugin.com//6.4.7.3//EN
TZID:Europe/Berlin
X-WR-TIMEZONE:Europe/Berlin
BEGIN:VEVENT
UID:87@katharinenschule-esslingen.de
DTSTART;TZID=Europe/Berlin;VALUE=DATE:20251119
DTEND;TZID=Europe/Berlin;VALUE=DATE:20251121
DTSTAMP:20251013T070939Z
URL:http://katharinenschule-esslingen.de/events/kompass-4-2/
SUMMARY:Kompass 4
DESCRIPTION:
END:VEVENT
BEGIN:VTIMEZONE
TZID:Europe/Berlin
X-LIC-LOCATION:Europe/Berlin
BEGIN:STANDARD
DTSTART:20251026T020000
TZOFFSETFROM:+0200
TZOFFSETTO:+0100
TZNAME:CET
END:STANDARD
END:VTIMEZONE
END:VCALENDAR