BEGIN:VCALENDAR
VERSION:2.0
PRODID:-//wp-events-plugin.com//6.4.7.3//EN
TZID:Europe/Berlin
X-WR-TIMEZONE:Europe/Berlin
BEGIN:VEVENT
UID:7@katharinenschule-esslingen.de
DTSTART;TZID=Europe/Berlin;VALUE=DATE:20240208
DTEND;TZID=Europe/Berlin;VALUE=DATE:20240209
DTSTAMP:20240125T140632Z
URL:http://katharinenschule-esslingen.de/events/fasching/
SUMMARY:Fasching
DESCRIPTION:Fasching an der Schule\n\nAlle Kinder dürfen verkleidet kommen
  (keine Waffen).
END:VEVENT
BEGIN:VTIMEZONE
TZID:Europe/Berlin
X-LIC-LOCATION:Europe/Berlin
BEGIN:STANDARD
DTSTART:20231029T020000
TZOFFSETFROM:+0200
TZOFFSETTO:+0100
TZNAME:CET
END:STANDARD
END:VTIMEZONE
END:VCALENDAR