BEGIN:VCALENDAR
VERSION:2.0
PRODID:-//wp-events-plugin.com//6.4.7.3//EN
TZID:Europe/Berlin
X-WR-TIMEZONE:Europe/Berlin
BEGIN:VEVENT
UID:49@katharinenschule-esslingen.de
DTSTART;TZID=Europe/Berlin;VALUE=DATE:20250207
DTEND;TZID=Europe/Berlin;VALUE=DATE:20250208
DTSTAMP:20240730T080402Z
URL:http://katharinenschule-esslingen.de/events/ende-1-hj-07-02-25/
SUMMARY:Ende 1.HJ 07.02.25
DESCRIPTION:
END:VEVENT
BEGIN:VTIMEZONE
TZID:Europe/Berlin
X-LIC-LOCATION:Europe/Berlin
BEGIN:STANDARD
DTSTART:20241027T020000
TZOFFSETFROM:+0200
TZOFFSETTO:+0100
TZNAME:CET
END:STANDARD
END:VTIMEZONE
END:VCALENDAR