BEGIN:VCALENDAR
VERSION:2.0
PRODID:-//wp-events-plugin.com//6.4.7.3//EN
TZID:Europe/Berlin
X-WR-TIMEZONE:Europe/Berlin
BEGIN:VEVENT
UID:86@katharinenschule-esslingen.de
DTSTART;TZID=Europe/Berlin:20251021T190000
DTEND;TZID=Europe/Berlin:20251021T210000
DTSTAMP:20251013T070857Z
URL:http://katharinenschule-esslingen.de/events/elternbeiratssitzung-3/
SUMMARY:Elternbeiratssitzung
DESCRIPTION:19.00Uhr kleine Mensa
END:VEVENT
BEGIN:VTIMEZONE
TZID:Europe/Berlin
X-LIC-LOCATION:Europe/Berlin
BEGIN:DAYLIGHT
DTSTART:20250330T030000
TZOFFSETFROM:+0100
TZOFFSETTO:+0200
TZNAME:CEST
END:DAYLIGHT
END:VTIMEZONE
END:VCALENDAR