BEGIN:VCALENDAR
VERSION:2.0
PRODID:-//wp-events-plugin.com//6.4.7.3//EN
TZID:Europe/Berlin
X-WR-TIMEZONE:Europe/Berlin
BEGIN:VEVENT
UID:6@katharinenschule-esslingen.de
DTSTART;TZID=Europe/Berlin;VALUE=DATE:20240202
DTEND;TZID=Europe/Berlin;VALUE=DATE:20240203
DTSTAMP:20240125T140514Z
URL:http://katharinenschule-esslingen.de/events/ausgabe-halbjahreszeugnis/
SUMMARY:Ausgabe Halbjahreszeugnis
DESCRIPTION:Ausgabe des Halbjahrzeugnisses (Kl.3-4)\n\nKlasse 4 mit Grundsc
 hulempfehlung
END:VEVENT
BEGIN:VTIMEZONE
TZID:Europe/Berlin
X-LIC-LOCATION:Europe/Berlin
BEGIN:STANDARD
DTSTART:20231029T020000
TZOFFSETFROM:+0200
TZOFFSETTO:+0100
TZNAME:CET
END:STANDARD
END:VTIMEZONE
END:VCALENDAR